BEGIN:VCALENDAR
VERSION:2.0
PRODID:-//ChamberMaster//Event Calendar 2.0//EN
METHOD:PUBLISH
X-PUBLISHED-TTL:P3D
REFRESH-INTERVAL:P3D
CALSCALE:GREGORIAN
BEGIN:VEVENT
DTSTART:20211111T160000Z
DTEND:20211111T170000Z
X-MICROSOFT-CDO-ALLDAYEVENT:FALSE
SUMMARY:Veterans Day
DESCRIPTION:Veterans Day Ceremony
X-ALT-DESC;FMTTYPE=text/html:Veterans Day Ceremony
LOCATION:Veterans Memorial Park
UID:e.3578.220
SEQUENCE:3
DTSTAMP:20260421T131619Z
URL:https://members.libertyhillchamber.org/events/details/veterans-day-220
END:VEVENT

END:VCALENDAR
