BEGIN:VCALENDAR
VERSION:2.0
PRODID:-//ChamberMaster//Event Calendar 2.0//EN
METHOD:PUBLISH
X-PUBLISHED-TTL:P3D
REFRESH-INTERVAL:P3D
CALSCALE:GREGORIAN
BEGIN:VEVENT
DTSTART:20200222T200000Z
DTEND:20200222T220000Z
X-MICROSOFT-CDO-ALLDAYEVENT:FALSE
SUMMARY:Stretch & Eat Event
DESCRIPTION:Stretch & Eat
X-ALT-DESC;FMTTYPE=text/html:<h1>Stretch &amp\; Eat</h1>\n
LOCATION:Veterans Memorial Park & Malted Grains
UID:e.3578.113
SEQUENCE:3
DTSTAMP:20260421T173325Z
URL:https://members.libertyhillchamber.org/events/details/stretch-eat-event-113
END:VEVENT

END:VCALENDAR
