BEGIN:VCALENDAR
VERSION:2.0
PRODID:-//ChamberMaster//Event Calendar 2.0//EN
METHOD:PUBLISH
X-PUBLISHED-TTL:P3D
REFRESH-INTERVAL:P3D
CALSCALE:GREGORIAN
BEGIN:VEVENT
DTSTART:20200221T150000Z
DTEND:20200221T220000Z
X-MICROSOFT-CDO-ALLDAYEVENT:FALSE
SUMMARY:Senior Community Health Screening
DESCRIPTION:Fellowship Church is hosting Life Line Screening\, the nation's leading provider of preventive health screenings on Friday\, February 21\, 2020. The screenings offer a 5 test package to thoroughly check you for risk of stroke\, cardiovascular disease and other chronic conditions. The combination of these tests help detect problems   before you have symptoms and while your doctor can still take action   so you can keep doing the things you love. Call today to register! 800-690-0323
X-ALT-DESC;FMTTYPE=text/html:Fellowship Church is hosting Life Line Screening\, the nation&rsquo\;s leading provider of preventive health screenings on Friday\, February 21\, 2020. The screenings offer a 5 test package to thoroughly check you for risk of stroke\, cardiovascular disease and other chronic conditions. The combination of these tests help detect problems &ndash\; before you have symptoms and while your doctor can still take action &hellip\; so you can keep doing the things you love. Call today to register! 800-690-0323
LOCATION:Fellowship Church 3600 Ranch Road 1869\, Liberty Hill\, Texas 78642
UID:e.3578.96
SEQUENCE:3
DTSTAMP:20260421T160501Z
URL:https://members.libertyhillchamber.org/events/details/senior-community-health-screening-96
END:VEVENT

END:VCALENDAR
