BEGIN:VCALENDAR
VERSION:2.0
PRODID:-//ChamberMaster//Event Calendar 2.0//EN
METHOD:PUBLISH
X-PUBLISHED-TTL:P3D
REFRESH-INTERVAL:P3D
CALSCALE:GREGORIAN
BEGIN:VEVENT
DTSTART:20200211T000000Z
DTEND:20200211T020000Z
X-MICROSOFT-CDO-ALLDAYEVENT:FALSE
SUMMARY:School Health Advisory Council (SHAC)
DESCRIPTION:School Health Advisory Council\n\nLiberty Hill ISD\, School Health Advisory Council (SHAC) is a committee of community\, parents\, and district representatives who meet a minimum of once each quarter to provide advice to the district on coordinated school health services and its impact on student health and learning.
X-ALT-DESC;FMTTYPE=text/html:<h1 style="text-align: center\;"><span style="color:#800080\;">School Health Advisory Council</span></h1>\n\n<div style="text-align: center\;">Liberty Hill ISD\, School Health Advisory Council (SHAC) is a committee of community\, parents\, and district representatives who meet a minimum of once each quarter to provide advice to the district on coordinated school health services and its impact on student health and learning.</div>\n
LOCATION:LHISD Administration Building
UID:e.3578.111
SEQUENCE:3
DTSTAMP:20260421T160727Z
URL:https://members.libertyhillchamber.org/events/details/school-health-advisory-council-shac-111
END:VEVENT

END:VCALENDAR
