BEGIN:VCALENDAR
VERSION:2.0
PRODID:-//ChamberMaster//Event Calendar 2.0//EN
METHOD:PUBLISH
X-PUBLISHED-TTL:P3D
REFRESH-INTERVAL:P3D
CALSCALE:GREGORIAN
BEGIN:VEVENT
DTSTART;VALUE=DATE:20200203
DTEND;VALUE=DATE:20200204
TRANSP:TRANSPARENT
X-MICROSOFT-CDO-ALLDAYEVENT:TRUE
SUMMARY:H-E-B Texas Community Challenge
DESCRIPTION:H-E-B Texas Community Challenge\nThe Liberty Hill Chamber of Commerce is partnering with the City of Liberty Hill and LHISD to win the H-E-B Texas Challenge!
X-ALT-DESC;FMTTYPE=text/html:<h1>H-E-B Texas Community Challenge</h1>\nThe Liberty Hill Chamber of Commerce is partnering with the City of Liberty Hill and LHISD to win the H-E-B Texas Challenge!&nbsp\;&nbsp\;
LOCATION:
UID:e.3578.38
SEQUENCE:3
DTSTAMP:20260421T173736Z
URL:https://members.libertyhillchamber.org/events/details/h-e-b-texas-community-challenge-02-03-2020-38
END:VEVENT

END:VCALENDAR
