BEGIN:VCALENDAR
VERSION:2.0
PRODID:-//ChamberMaster//Event Calendar 2.0//EN
METHOD:PUBLISH
X-PUBLISHED-TTL:P3D
REFRESH-INTERVAL:P3D
CALSCALE:GREGORIAN
BEGIN:VEVENT
DTSTART:20230901T130000Z
DTEND:20230902T030000Z
X-MICROSOFT-CDO-ALLDAYEVENT:FALSE
SUMMARY:Calendar Raffle Fundraiser $150 each
DESCRIPTION:Calendar Raffle\n\nMonthly prizes
X-ALT-DESC;FMTTYPE=text/html:Calendar Raffle<br />\nMonthly prizes
LOCATION:Liberty Hill Chamber of Commerce
UID:e.3578.323
SEQUENCE:3
DTSTAMP:20260423T212428Z
URL:https://members.libertyhillchamber.org/events/details/calendar-raffle-fundraiser-150-each-323
END:VEVENT

END:VCALENDAR
