BEGIN:VCALENDAR
VERSION:2.0
PRODID:-//ChamberMaster//Event Calendar 2.0//EN
METHOD:PUBLISH
X-PUBLISHED-TTL:P3D
REFRESH-INTERVAL:P3D
CALSCALE:GREGORIAN
BEGIN:VEVENT
DTSTART:20220901T150000Z
DTEND:20220901T160000Z
X-MICROSOFT-CDO-ALLDAYEVENT:FALSE
SUMMARY:Brent Allen State Farm Ribbon Cutting
DESCRIPTION:Ribbon Cutting
X-ALT-DESC;FMTTYPE=text/html:<span style="font-size:16px\;"><strong><span style="font-family:arial\;">Ribbon Cutting</span></strong></span>
LOCATION:Brent Allen State Farm 12701 Hwy 29 #3 Liberty Hill\, TX 78642
UID:e.3578.304
SEQUENCE:3
DTSTAMP:20260421T085255Z
URL:https://members.libertyhillchamber.org/events/details/brent-allen-state-farm-ribbon-cutting-304
END:VEVENT

END:VCALENDAR
