BEGIN:VCALENDAR
VERSION:2.0
PRODID:-//ChamberMaster//Event Calendar 2.0//EN
METHOD:PUBLISH
X-PUBLISHED-TTL:P3D
REFRESH-INTERVAL:P3D
CALSCALE:GREGORIAN
BEGIN:VEVENT
DTSTART:20200207T143000Z
DTEND:20200207T160000Z
X-MICROSOFT-CDO-ALLDAYEVENT:FALSE
SUMMARY:Board Meeting
DESCRIPTION:LHCC Board Meeting
X-ALT-DESC;FMTTYPE=text/html:<h1>LHCC Board Meeting</h1>\n
LOCATION:LHISD Administration Building
UID:e.3578.45
SEQUENCE:3
DTSTAMP:20260421T173337Z
URL:https://members.libertyhillchamber.org/events/details/board-meeting-45
END:VEVENT

END:VCALENDAR
